BEGIN:VCALENDAR
VERSION:2.0
PRODID:-//Tukios.com/
BEGIN:VEVENT
UID:28f0639d-ee3b-4048-941c-111d92045cf5@www.kokfuneral.com
DTSTAMP:20260424T170350Z
DTSTART:20260429T210000Z
DTEND:20260430T000000Z
SUMMARY:Visitation
DESCRIPTION:
URL:https://www.kokfuneral.com/obituaries/eduardo-eddie-aguirre
LOCATION:Kok Funeral Home 7676 80th Street South  Cottage Grove MN 55016
GEO:44.8339567;-92.9506112
END:VEVENT
END:VCALENDAR