BEGIN:VCALENDAR
VERSION:2.0
PRODID:-//Tukios.com/
BEGIN:VEVENT
UID:ad8423bc-49a5-4471-a476-5a94bce8be56@www.kokfuneral.com
DTSTAMP:20260424T165708Z
DTSTART:20260430T150000Z
DTEND:20260430T160000Z
SUMMARY:Mass
DESCRIPTION:
URL:https://www.kokfuneral.com/obituaries/eduardo-eddie-aguirre
LOCATION:Sacred Heart Church 840 6th Street East  Saint Paul MN 55106
GEO:44.9601168;-93.0653003
END:VEVENT
END:VCALENDAR