BEGIN:VCALENDAR
VERSION:2.0
PRODID:-//Tukios.com/
BEGIN:VEVENT
UID:4c40ddf6-8d77-4b25-86a0-c530e56fdf0d@www.kokfuneral.com
DTSTAMP:20260425T004139Z
DTSTART:20260505T210000Z
DTEND:20260506T000000Z
SUMMARY:Visitation
DESCRIPTION:
URL:https://www.kokfuneral.com/obituaries/evan-jorgenson
LOCATION:Crossroads Church 7955 Ivystone Avenue South  Cottage Grove MN 
	55016
GEO:44.8342917;-92.9247747
END:VEVENT
END:VCALENDAR