BEGIN:VCALENDAR
VERSION:2.0
PRODID:-//Tukios.com/
BEGIN:VEVENT
UID:3ac44a87-549a-40e1-9149-b8244b3a93c5@www.kokfuneral.com
DTSTAMP:20260425T004139Z
DTSTART:20260505T230000Z
DTEND:20260506T000000Z
SUMMARY:Funeral Service
DESCRIPTION:
URL:https://www.kokfuneral.com/obituaries/evan-jorgenson
LOCATION:Crossroads Church 7955 Ivystone Avenue South  Cottage Grove MN 
	55016
GEO:44.8342917;-92.9247747
END:VEVENT
END:VCALENDAR