BEGIN:VCALENDAR
VERSION:2.0
PRODID:-//Tukios.com/
BEGIN:VEVENT
UID:bc2b04bd-e0de-4b10-8787-7da09afe7d47@www.kokfuneral.com
DTSTAMP:20260425T005507Z
DTSTART:20260501T200000Z
DTEND:20260501T230000Z
SUMMARY:Visitation
DESCRIPTION:
URL:https://www.kokfuneral.com/obituaries/michael-coy
LOCATION:Kok Funeral Home 1201 Portland Avenue  Saint Paul Park MN 55071
GEO:44.8363633;-92.9891923
END:VEVENT
END:VCALENDAR