BEGIN:VCALENDAR
VERSION:2.0
PRODID:-//Tukios.com/
BEGIN:VEVENT
UID:b0ba2423-18de-4123-b1d8-8431143b3755@www.kokfuneral.com
DTSTAMP:20260425T005406Z
DTSTART:20260501T213000Z
DTEND:20260501T223000Z
SUMMARY:Memorial Service
DESCRIPTION:
URL:https://www.kokfuneral.com/obituaries/michael-coy
LOCATION:Kok Funeral Home 1201 Portland Avenue  Saint Paul Park MN 55071
GEO:44.8363633;-92.9891923
END:VEVENT
END:VCALENDAR